BEGIN:VCALENDAR
VERSION:2.0
PRODID:-//wp-events-plugin.com//7.2.3.1//EN
TZID:Europe/Stockholm
X-WR-TIMEZONE:Europe/StockholmBEGIN:VCALENDAR
VERSION:2.0
PRODID:-//wp-events-plugin.com//7.2.3.1//EN
TZID:Europe/Stockholm
X-WR-TIMEZONE:Europe/Stockholm
BEGIN:VEVENT
UID:48@gsongospel.se
DTSTART;TZID=Europe/Stockholm:20260430T190000
DTEND;TZID=Europe/Stockholm:20260430T200000
DTSTAMP:20260412T124312Z
URL:https://gsongospel.se/events/valborgskonsert-i-olmhult-30-4/
SUMMARY:Valborgskonsert i Ölmhult 30/4
DESCRIPTION:
ATTACH;FMTTYPE=image/jpeg:https://gsongospel.se/wp-content/uploads/2025/03
 /majbrasa.jpg
CATEGORIES:Konsert
END:VEVENT
BEGIN:VTIMEZONE
TZID:Europe/Stockholm
X-LIC-LOCATION:Europe/Stockholm
BEGIN:DAYLIGHT
DTSTART:20260329T030000
TZOFFSETFROM:+0100
TZOFFSETTO:+0200
TZNAME:CEST
END:DAYLIGHT
END:VTIMEZONE
END:VCALENDAR